-0.00000000000000
-0.09000000000000
-0.09000000000000
0.00000000000000
692414.62803314126000
271247.17704086978000
