-0.00000000000000
-0.09000000000000
-0.09000000000000
0.00000000000000
692428.62803314126000
271976.17704086978000
