-0.00000000000000
-0.09000000000000
-0.09000000000000
0.00000000000000
692444.62803314126000
274907.17704086978000
