-0.00000000000000
-0.09000000000000
-0.09000000000000
0.00000000000000
692466.62803314126000
278129.17704086978000
