-0.00000000000000
-0.09000000000000
-0.09000000000000
0.00000000000000
692464.62803314126000
279413.17704086978000
