-0.00000000000000
-0.09000000000000
-0.09000000000000
0.00000000000000
691354.62803314126000
267558.17704086978000
