-0.00000000000000
-0.09000000000000
-0.09000000000000
0.00000000000000
691348.62803314126000
268109.17704086978000
