-0.00000000000000
-0.09000000000000
-0.09000000000000
0.00000000000000
691350.62803314126000
274678.17704086978000
