-0.00000000000000
-0.09000000000000
-0.09000000000000
0.00000000000000
691352.62803314126000
275979.17704086978000
