-0.00000000000000
-0.09000000000000
-0.09000000000000
0.00000000000000
691344.62803314126000
283125.17704086978000
