0.00000000000000
0.09000000000000
0.09000000000000
-0.00000000000000
688511.37196685874000
261972.82295913019000
