0.00000000000000
0.09000000000000
0.09000000000000
-0.00000000000000
688503.37196685874000
265072.82295913022000
