0.00000000000000
0.09000000000000
0.09000000000000
-0.00000000000000
688487.37196685874000
269632.82295913022000
