0.00000000000000
0.09000000000000
0.09000000000000
-0.00000000000000
688483.37196685874000
271640.82295913022000
