0.00000000000000
0.09000000000000
0.09000000000000
-0.00000000000000
688479.37196685874000
273073.82295913022000
