0.00000000000000
0.09000000000000
0.09000000000000
-0.00000000000000
688491.37196685874000
274430.82295913022000
