0.00000000000000
0.09000000000000
0.09000000000000
-0.00000000000000
688467.37196685874000
278597.82295913022000
