-0.00000000000000
-0.09000000000000
-0.09000000000000
0.00000000000000
689068.62803314126000
269115.17704086978000
