-0.00000000000000
-0.09000000000000
-0.09000000000000
0.00000000000000
689084.62803314126000
271858.17704086978000
