-0.00000000000000
-0.09000000000000
-0.09000000000000
0.00000000000000
689148.62803314126000
277188.17704086978000
