-0.00000000000000
-0.09000000000000
-0.09000000000000
0.00000000000000
689195.62803314126000
281391.17704086978000
