-0.00000000000000
-0.09000000000000
-0.09000000000000
0.00000000000000
687996.62803314126000
270819.17704086978000
