-0.00000000000000
-0.09000000000000
-0.09000000000000
0.00000000000000
688010.62803314126000
273238.17704086978000
