-0.00000000000000
-0.09000000000000
-0.09000000000000
0.00000000000000
688020.62803314126000
274911.17704086978000
