-0.00000000000000
-0.09000000000000
-0.09000000000000
0.00000000000000
688040.62803314126000
276721.17704086978000
