-0.00000000000000
-0.09000000000000
-0.09000000000000
0.00000000000000
688047.62803314126000
277326.17704086978000
