-0.00000000000000
-0.09000000000000
-0.09000000000000
0.00000000000000
691468.54513099301000
261822.19406995023000
