-0.00000000000000
-0.09000000000000
-0.09000000000000
0.00000000000000
691481.54513099289000
262834.19406995020000
