-0.00000000000000
-0.09000000000000
-0.09000000000000
0.00000000000000
690315.06595886825000
261893.89619203561000
