-0.00000000000000
-0.09000000000000
-0.09000000000000
0.00000000000000
690319.06595886825000
264840.89619203558000
