-0.00000000000000
-0.09000000000000
-0.09000000000000
0.00000000000000
689213.06595886825000
256524.89619203561000
