-0.00000000000000
-0.09000000000000
-0.09000000000000
0.00000000000000
689222.06595886825000
259759.89619203561000
