-0.00000000000000
-0.09000000000000
-0.09000000000000
0.00000000000000
689200.06595886825000
265492.89619203558000
