-0.00000000000000
-0.09000000000000
-0.09000000000000
0.00000000000000
689194.06595886825000
266143.89619203558000
