-0.00000000000000
-0.09000000000000
-0.09000000000000
0.00000000000000
688101.19511789375000
253953.87916295519000
