-0.00000000000000
-0.09000000000000
-0.09000000000000
0.00000000000000
688093.19511789375000
258847.87916295519000
