-0.00000000000000
-0.09000000000000
-0.09000000000000
0.00000000000000
688089.19511789375000
266145.87916295516000
