-0.00000000000000
-0.09000000000000
-0.09000000000000
0.00000000000000
688081.19511789375000
268248.87916295516000
