-0.00000000000000
-0.09000000000000
-0.09000000000000
0.00000000000000
687009.19511789375000
252532.87916295519000
