-0.00000000000000
-0.09000000000000
-0.09000000000000
0.00000000000000
687018.19511789375000
253792.87916295519000
