-0.00000000000000
-0.09000000000000
-0.09000000000000
0.00000000000000
687016.19511789375000
260611.87916295519000
