-0.00000000000000
-0.09000000000000
-0.09000000000000
0.00000000000000
687000.19511789375000
265974.87916295516000
