-0.00000000000000
-0.09000000000000
-0.09000000000000
0.00000000000000
686992.19511789375000
267714.87916295516000
