-0.00000000000000
-0.09000000000000
-0.09000000000000
0.00000000000000
687002.19511789375000
269293.87916295516000
