-0.00000000000000
-0.09000000000000
-0.09000000000000
0.00000000000000
685902.58678674349000
254341.59831412110000
