-0.00000000000000
-0.09000000000000
-0.09000000000000
0.00000000000000
685892.58678674349000
256208.59831412110000
