-0.00000000000000
-0.09000000000000
-0.09000000000000
0.00000000000000
685912.58678674349000
259355.59831412110000
