-0.00000000000000
-0.09000000000000
-0.09000000000000
0.00000000000000
685898.58678674349000
262163.59831412107000
