-0.00000000000000
-0.09000000000000
-0.09000000000000
0.00000000000000
685886.58678674349000
264628.59831412107000
