-0.00000000000000
-0.09000000000000
-0.09000000000000
0.00000000000000
685910.58678674349000
265283.59831412107000
